BEGIN:VCALENDAR
VERSION:2.0
PRODID:-//wp-events-plugin.com//7.2.3.1//EN
TZID:Europe/Rome
X-WR-TIMEZONE:Europe/Rome
BEGIN:VEVENT
UID:230@enolibreria.it
DTSTART;TZID=Europe/Rome:20241011T193000
DTEND;TZID=Europe/Rome:20241011T233000
DTSTAMP:20240925T151229Z
URL:https://www.enolibreria.it/eventi/acustimantico-duo/
SUMMARY:ACUSTIMANTICO DUO: CANZONI IMMAGINARIE
DESCRIPTION:Enoteca Letteraria\nProposne\n\nACUSTIMANTICO DUO:\nCANZONI IMM
 AGINARIE\nRaffaella Misiti: voce\nStefano Scatozza: chitarra\nCanzoni orig
 inali e cover d’autore.\nMusiche originali di S. Scatozza\, testi origin
 ali di D. Selvaggi\nLe canzoni di Acustimantico riproposte nella loro esse
 nza più pura\ne con la forza di una semplicità che accorcia le distanze\
 ; il pubblico\nviene accolto nelle immagini e nelle suggestioni di una can
 zone\ncome si accoglie un ospite in casa\, condividendo suoni\, ricordi\,\
 nsguardi. L’energia della musica si moltiplica e torna ad essere\nesperi
 enza collettiva e vitale.\nDa Fiori di Loto a Musica Immaginaria\, molte d
 elle canzoni di\nAcustimantico in versione acustica ed essenziale\, e alcu
 ne cover\npreziose del repertorio world.\nAcustimantico è un gruppo music
 ale italiano la cui musica unisce\nstili e generi diversi\, dalla canzone 
 d'autore alla musica etnica (in\nparticolare balcanica e klezmer)\, dal po
 p al jazz\, all'avanguardia.\nPioniere dell’autoproduzione\, pubblica se
 i dischi e dal 1998 svolge\nintensa attività live in Italia e all’ester
 o (Francia\, Germania\,\nGiappone\, Belgio). La forza del gruppo è nella 
 mistura di linguaggi\ne nell’apertura verso tutte le forme poetiche\, le
 tterarie e teatrali.\nSeguirà cena a buffet:\nun piatto di pasta\, un'ins
 alata sfiziosa\, vino sfuso a volontà e la Tradizionale crostata di Nonna
  Mimmi\nPrenotazione obbligatoria\n0688793118 - info@enolibreria.it - wa +
 39 366 256 0283 - o compilando il modulo e confermando nel carrello la pre
 notazione\n(è prevista la possibilità di pagare all'arrivo in libreria l
 a sera dell'evento)
ATTACH;FMTTYPE=image/jpeg:https://www.enolibreria.it/wp-content/uploads/20
 24/09/locandina-sito-1.jpg
CATEGORIES:Concerti, rappresentazioni teatrali e cineforum
LOCATION:Enoteca Letteraria\, Via San Giovanni in Laterano\, 81\, ROMA\, RM
 \, 00184\, Lazio\, Italia
GEO:41.888397;12.500094
X-APPLE-STRUCTURED-LOCATION;VALUE=URI;X-ADDRESS=Via San Giovanni in Lateran
 o\, 81\, ROMA\, RM\, 00184\, Lazio\, Italia;X-APPLE-RADIUS=100;X-TITLE=Eno
 teca Letteraria:geo:41.888397,12.500094
END:VEVENT
BEGIN:VTIMEZONE
TZID:Europe/Rome
X-LIC-LOCATION:Europe/Rome
BEGIN:DAYLIGHT
DTSTART:20240331T030000
TZOFFSETFROM:+0100
TZOFFSETTO:+0200
TZNAME:CEST
END:DAYLIGHT
END:VTIMEZONE
END:VCALENDAR